BEGIN:VCALENDAR
VERSION:2.0
PRODID:-//ChamberMaster//Event Calendar 2.0//EN
METHOD:PUBLISH
X-PUBLISHED-TTL:P1H
REFRESH-INTERVAL:P1H
CALSCALE:GREGORIAN
BEGIN:VTIMEZONE
TZID:America/New_York
BEGIN:DAYLIGHT
RRULE:FREQ=YEARLY;BYMONTH=3;BYDAY=2SU
DTSTART:20070101T000000
TZOFFSETFROM:-0500
TZOFFSETTO:-0400
TZNAME:Eastern Daylight Time
END:DAYLIGHT
BEGIN:STANDARD
RRULE:FREQ=YEARLY;BYMONTH=11;BYDAY=1SU
DTSTART:20070101T000000
TZOFFSETFROM:-0400
TZOFFSETTO:-0500
TZNAME:Eastern Standard Time
END:STANDARD
END:VTIMEZONE
BEGIN:VEVENT
DTSTART;TZID=America/New_York:20261001T180000
DTEND;TZID=America/New_York:20261001T204500
X-MICROSOFT-CDO-ALLDAYEVENT:FALSE
SUMMARY:Membership Dinner & CME
DESCRIPTION:This will be a chance to unwind\, share perspectives\, and learn together. We hope you’ll leave feeling re-energized and glad you joined us.
X-ALT-DESC;FMTTYPE=text/html:This will be a chance to unwind\, share perspectives\, and learn together. We hope you’ll leave feeling re-energized and glad you joined us.
LOCATION:MD
UID:e.4026.1390220
SEQUENCE:3
DTSTAMP:20260419T215846Z
URL:https://members.marylanddermsociety.com/events/Details/membership-dinner-cme-1642163?sourceTypeId=Hub
END:VEVENT
END:VCALENDAR
