BEGIN:VCALENDAR
VERSION:2.0
PRODID:-//ChamberMaster//Event Calendar 2.0//EN
METHOD:PUBLISH
X-PUBLISHED-TTL:P1H
REFRESH-INTERVAL:P1H
CALSCALE:GREGORIAN
BEGIN:VTIMEZONE
TZID:America/New_York
BEGIN:DAYLIGHT
RRULE:FREQ=YEARLY;BYMONTH=3;BYDAY=2SU
DTSTART:20070101T000000
TZOFFSETFROM:-0500
TZOFFSETTO:-0400
TZNAME:Eastern Daylight Time
END:DAYLIGHT
BEGIN:STANDARD
RRULE:FREQ=YEARLY;BYMONTH=11;BYDAY=1SU
DTSTART:20070101T000000
TZOFFSETFROM:-0400
TZOFFSETTO:-0500
TZNAME:Eastern Standard Time
END:STANDARD
END:VTIMEZONE
BEGIN:VEVENT
DTSTART;TZID=America/New_York:20260501T000000
DTEND;TZID=America/New_York:20260503T000000
X-MICROSOFT-CDO-ALLDAYEVENT:FALSE
SUMMARY:2026 Atlantic Derm Conference
DESCRIPTION:Atlantic Derm's history as an organization defines who we are today. Founded in 1923 as a case-based clinical conference by three dermatologists from New York\, Philadelphia\, and Boston\, Atlantic Derm has grown into a dedicated group of thousands of dermatologists from 14 member societies along the eastern seaboard of the United States and Canada.This year's conference will be held at the New York Hilton Midtown Hosted by The Dermatologic Society of Greater New York. Hosted by The Dermatologic Society of Greater New York.REGISTER: https://adc.joynconference.com/v2/\nADC:https://atlanticdermconference.org/
X-ALT-DESC;FMTTYPE=text/html:<!DOCTYPE html><html><head><title></title></head><body aria-disabled="false"><p>Atlantic Derm&rsquo\;s history as an organization defines who we are today. Founded in 1923 as a case-based clinical conference by three dermatologists from New York\, Philadelphia\, and Boston\, Atlantic Derm has grown into a dedicated group of thousands of dermatologists from 14 member societies along the eastern seaboard of the United States and Canada.</p><p>This year&#39\;s conference will be held at the New York Hilton Midtown Hosted by The Dermatologic Society of Greater New York. Hosted by The Dermatologic Society of Greater New York.</p><p><strong fr-original-style="" style="font-weight: 700\;">REGISTER</strong>: <a fr-original-style="" href="https://adc.joynconference.com/v2/" style="user-select: auto\;">https://adc.joynconference.com/v2/</a><br><strong fr-original-style="" style="font-weight: 700\;">ADC:<a fr-original-style="" href="https://atlanticdermconference.org/" style="user-select: auto\;">https://atlanticdermconference.org/</a></strong></p></body></html>
LOCATION:
UID:e.4026.1416132
SEQUENCE:3
DTSTAMP:20260419T215839Z
URL:https://members.marylanddermsociety.com/events/Details/2026-atlantic-derm-conference-1673723?sourceTypeId=Hub
END:VEVENT
END:VCALENDAR
